BEGIN:VCALENDAR
VERSION:2.0
CALSCALE:GREGORIAN
PRODID:-//MyApp//Calendar 1.0//EN
BEGIN:VEVENT
METHOD:PUBLISH
UID:34314@regionalniportaly.cz
DTSTAMP:20260422T214238Z
DTSTART;VALUE=DATE:20230902
DTEND;VALUE=DATE:20230903
SUMMARY:RAKFEST open air Říčany u Brna
DESCRIPTION: \nPátý ročník multižánrového open-air festivalu se uskuteční 2.9.2023 v Říčanech u Brna opět v areálu Marečkova louka.Můžete těšit na úžasné kapely jako jsou například minus123minut nebo Ukulele orchestra jako Brno\, ale také na vynikající kapely spjaté s naším mikroregionem Kahan. Letos to bude zase pestré\, zazní rock\, funky\, punk\, folk-rock\, jazz\, alternativa\, hard rock ...Chybět nebude skvělé jídlo a pití.Pro děti budou připraveny oblíbené hudební a výtvarné workshopy\, kočovná herna Sládkovna\, festivalová knihovna\, malování na obličej a spousta dalších překvapení.....  \n \nhttps://rakfest.cz/\nhttps://www.facebook.com/rakfestopenair\n 
LOCATION:Říčany
END:VEVENT
END:VCALENDAR