BEGIN:VCALENDAR
VERSION:2.0
CALSCALE:GREGORIAN
PRODID:-//MyApp//Calendar 1.0//EN
BEGIN:VEVENT
METHOD:PUBLISH
UID:34075@regionalniportaly.cz
DTSTAMP:20260422T213310Z
DTSTART;VALUE=DATE:20230824
DTEND;VALUE=DATE:20230825
SUMMARY:Písničkářka Beata Hlavenková
DESCRIPTION: Pianistka\, skladatelka\, zpěvačka\, aranžérka a producentka\, je jednou z nejvýraznějších současných muzikantek s nezaměnitelným nadžánrovým autorským rukopisem. Její hlavní devízou je odvaha – odvaha experimentovat\, hledat nekonvenční harmonie a aranžmá. Žánrová svoboda\, opírající se o hluboké povědomí o jazzu\, moderní klasické hudbě\, popu i písničkářství\, se ve všech jejích projektech prolíná s jasně rozpoznatelnou soustředěnou a citlivou interpretací.  24. 8. / 19:00 / nádvoří zámku  Vstupné: 220 Kč předprodej / 300 Kč v den akce  Kuřim dětem - Kulturní léto 50 Kč děti do 12 letVstupenky zakoupíte na www.kulturakurim.cz/akce-beata-hlavenkova-kulturni-leto-2023 nebo na pokladně kulturního domu.
LOCATION:Kuřim
END:VEVENT
END:VCALENDAR