BEGIN:VCALENDAR
VERSION:2.0
CALSCALE:GREGORIAN
PRODID:-//MyApp//Calendar 1.0//EN
BEGIN:VEVENT
METHOD:PUBLISH
UID:34073@regionalniportaly.cz
DTSTAMP:20260422T183910Z
DTSTART;VALUE=DATE:20230828
DTEND;VALUE=DATE:20230829
SUMMARY:Divadelní představení Limonádový Joe
DESCRIPTION: Výpravná inscenace nesmrtelné parodie na westernové příběhy\, známé především díky filmovému zpracování. Limonádový Joe od svého zrodu vůbec nezestárnul\, je naopak stále živý a dnes i v mnohém aktuálnější. Jeho autor Jiří Brdečka si totiž dělá legraci nejen z naivních barvotiskových příběhů o „neohrožených mstitelích bezpráví“\, ale třeba i z fenoménu reklamy. V naší verzi se znovu setkáte nejen se všemi postavami a šlágry z filmu\, ale i s těmi\, které se z původní Brdečkovy hry do filmu nedostaly. Známé i nové písně zahraje naše divadelní kapela Los Trumberos.  Divadlo A. Dvořáka Příbram  140 minut včetně přestávky  28. 8. / 20:00 / nádvoří zámku  Vstup: 350 Kč předprodej / 430 Kč v den akce  Kuřim dětem - Kulturní léto 50 Kč děti do 12 letVstupenky zakoupíte na www.kulturakurim.cz/akce-limonadovy-joe-kulturni-leto-2023 nebo na pokladně kulturního domu.
LOCATION:Kuřim
END:VEVENT
END:VCALENDAR