BEGIN:VCALENDAR
VERSION:2.0
CALSCALE:GREGORIAN
PRODID:-//MyApp//Calendar 1.0//EN
BEGIN:VEVENT
METHOD:PUBLISH
UID:34072@regionalniportaly.cz
DTSTAMP:20260422T231807Z
DTSTART;VALUE=DATE:20230819
DTEND;VALUE=DATE:20230820
SUMMARY:Folk metal fest
DESCRIPTION: 8. ročník Folk Metal Festu se přesouvá do Kuřimi  Program:15:00 - otevření areálu16:00 - Rosa Nocturna - symphonic folk metal BRNO17:15 - Embrace the Darkness melodic/doom/death metal KUŘIM18:30 - Pačess - Pivnĕ didaktická metalová kapela LULEČ19:45 - Wolfarian - symphonic folk metal BRNO21:00 - Jeden Kmen - tribálni hudba s prvky folku\, world music\, elektroniky a ambientu22:30 - Silent Stream of Godless Elegy - Doom / folk metal OSTRAVA  19. 8. / 15:00 / nádvoří zámku  Vstupné: 550 Kč předprodej / 630 Kč v den akce  Kuřim dětem - Kulturní léto 50 Kč děti do 12 letVstupenky zakoupíte na www.kulturakurim.cz/akce-folk-metal-fest-kulturni-leto-2023 nebo na pokladně kulturního domu
LOCATION:Kuřim
END:VEVENT
END:VCALENDAR