BEGIN:VCALENDAR
VERSION:2.0
CALSCALE:GREGORIAN
PRODID:-//MyApp//Calendar 1.0//EN
BEGIN:VEVENT
METHOD:PUBLISH
UID:34071@regionalniportaly.cz
DTSTAMP:20260422T231852Z
DTSTART;VALUE=DATE:20230729
DTEND;VALUE=DATE:20230730
SUMMARY:Koncert Tata bojs
DESCRIPTION: Tata Bojs je česká alternativní rocková skupina z pražské Hanspaulky.  29. 7. / 19:00 / nádvoří zámku  Vstupné: 490 Kč předprodej / 570 Kč v den akce  Kuřim dětem - Kulturní léto 50 Kč děti do 12 letVstupenky zakoupíte na www.kulturakurim.cz/akce-tata-bojs-kulturni-leto-2023 nebo na pokladně kulturního domu.
LOCATION:Kuřim
END:VEVENT
END:VCALENDAR