BEGIN:VCALENDAR
VERSION:2.0
CALSCALE:GREGORIAN
PRODID:-//MyApp//Calendar 1.0//EN
BEGIN:VEVENT
METHOD:PUBLISH
UID:34067@regionalniportaly.cz
DTSTAMP:20260422T214208Z
DTSTART;VALUE=DATE:20230714
DTEND;VALUE=DATE:20230715
SUMMARY:Žamboši a předkapela Zkusmeto
DESCRIPTION: Žamboši\, původně duo Jana a Stanislavy Žambochových\, dnes již trio. Hrají v obsazení kytara\, akordeon a bicí. Sestavu rozšířili v roce 2005 o bubeníka Jiřího Nedavaška. Za poněkud zavádějícím názvem se dnes ukrývá progresivně znějící folková kapela. Repertoár se opírá o původní tvorbu Jana Žambocha.  Předkapela Zkusmeto je mladá kuřimská kapela\, která vás zaujme pořádnou porcí folkové hudby.  14. 7. / nádvoří zámku /19:00 Zkusmeto / 20:00 Žamboši  Vstup: 220 Kč v předprodeji / 300 Kč v den akce  Kuřim dětem - Kulturní léto 50 Kč děti do 12 letVstupenky zakoupíte na http://www.kulturakurim.cz/akce-zambosi-predkapela... nebo na pokladně kulturního domu.
LOCATION:Kuřim
END:VEVENT
END:VCALENDAR