BEGIN:VCALENDAR
VERSION:2.0
CALSCALE:GREGORIAN
PRODID:-//MyApp//Calendar 1.0//EN
BEGIN:VEVENT
METHOD:PUBLISH
UID:33757@regionalniportaly.cz
DTSTAMP:20260422T214109Z
DTSTART;VALUE=DATE:20230725
DTEND;VALUE=DATE:20230726
SUMMARY:Africká pohádka I Kulturní léto 2023
DESCRIPTION:25. červenec\,17:00 Kulturní dům\, nám. Osvobození 902/1\, 664 34 Kuřim Vstupné: 50 Kč / vstupné k prodeji na místě Humorný a dobrodružný příběh plný afrických rytmů\, vypráví o lovci Hoďflintudožitovi\, který se vypravil lovit zvířátka do Afriky a udělal málem z buše smetiště. Opička Koko s papouškem Ararou\, slonem Bimbou a lvem Hungou však lovci dají za vyučenou. Ten se nejen se zvířaty spřátelí\, ale také začne chránit přírodu.- 25. 7. / 17:00 / za kulturním domem- Divadlo v Batohu 
LOCATION:Kuřim
END:VEVENT
END:VCALENDAR