BEGIN:VCALENDAR
VERSION:2.0
CALSCALE:GREGORIAN
PRODID:-//MyApp//Calendar 1.0//EN
BEGIN:VEVENT
METHOD:PUBLISH
UID:33665@regionalniportaly.cz
DTSTAMP:20260422T214019Z
DTSTART;VALUE=DATE:20230630
DTEND;VALUE=DATE:20230701
SUMMARY:Dětská party na zámku
DESCRIPTION: Dětská párty na zámku se spoustou her a diskotékou    30. 6. / 13:00 - 18:00 / nádvoří zámku  Vstupné: 50 Kč\; vstupenky zakoupíte na www.kulturakurim.cz nebo na pokladně kulturního domu
LOCATION:Kuřim
END:VEVENT
END:VCALENDAR