BEGIN:VCALENDAR
VERSION:2.0
CALSCALE:GREGORIAN
PRODID:-//MyApp//Calendar 1.0//EN
BEGIN:VEVENT
METHOD:PUBLISH
UID:33659@regionalniportaly.cz
DTSTAMP:20260423T004418Z
DTSTART;VALUE=DATE:20230624
DTEND;VALUE=DATE:20230625
SUMMARY:Bára Basiková & blue cimbal
DESCRIPTION:Bářiny hity – mystické lidovky – velké světové songy nespoutané hlasy &amp\; 1st electro-cimbal in pop-rock.\nProdej vstupenek OÚ Předklášteří\, Ticketportal a TIC Tišnov.
LOCATION:Předklášteří
END:VEVENT
END:VCALENDAR