BEGIN:VCALENDAR
VERSION:2.0
CALSCALE:GREGORIAN
PRODID:-//MyApp//Calendar 1.0//EN
BEGIN:VEVENT
METHOD:PUBLISH
UID:32982@regionalniportaly.cz
DTSTAMP:20260422T213559Z
DTSTART;VALUE=DATE:20230617
DTEND;VALUE=DATE:20230618
SUMMARY:Kuřimské pivní slavnosti
DESCRIPTION:Po 3 leté pauze se vrací KPS na nádvoří kuřimského zámku&nbsp\;Pivovary\, dobré jídlo a k tomu nabitý hudební program&nbsp\;Areál bude ZDARMA přístupný od 10:00 kdy si můžete projít stánky nejen pivovarů\, dát si něco dobrého k jídlu a pití nebo se pobavit s dětmi na skákacím hradu.Od 15:00 bude vstup možný pouze se vstupenkou.Program na podiu:15:00 - 16:00 Souperman16:30 - 17:30 AC / DS18:00 - 19:00 Panthenol19:30 - 22:00 Skarlet rock23:00 - 00:00 Free Fall00:30 - 02:00 Kabát - SecondHandPivovary:Minipivovar DoubravníkRojcMinipivovar RichardPivovar KOSLíšeňský pivovarPivovar Moravia &amp\; Lucky BastardJalový PivoKočovný KoziMinipivovar KřiklounMěšťanský pivovar KojetínVíce informací budeme postupně přidávat sem do události a na webovky&nbsp\;www.kurimskepivnislavnosti.cz&nbsp\;tak buďme ve spojení&nbsp\;&nbsp\;
LOCATION:Kuřim
END:VEVENT
END:VCALENDAR