BEGIN:VCALENDAR
VERSION:2.0
CALSCALE:GREGORIAN
PRODID:-//MyApp//Calendar 1.0//EN
BEGIN:VEVENT
METHOD:PUBLISH
UID:32891@regionalniportaly.cz
DTSTAMP:20260422T044045Z
DTSTART;VALUE=DATE:20230603
DTEND;VALUE=DATE:20230604
SUMMARY:Mega Balloon Párty
DESCRIPTION:Přijď se pobavit na velkolepou BALLOON PÁRTY!&nbsp\;Těšit se můžeš na večer s tím nejlepším z tohoto milénia a hity EDM.
LOCATION:Kuřim
END:VEVENT
END:VCALENDAR